Workbook

Sheet SUMA
A2: L.p. | B2: Powiat | C2: Liczba miejsc
A3: 1 | B3: KP PSP Bytów | C3: =COUNTA(Bytów!B3:B32) -> 13
A4: 2 | B4: KP PSP Chojnice | C4: =COUNTA(Chojnice!B3:B33) -> 6
A5: 3 | B5: KP PSP Człuchów | C5: =COUNTA(Człuchów!B3:B34) -> 12
A6: 4 | B6: KM PSP Gdańsk | C6: =COUNTA(Gdańsk!B3:B35) -> 4
A7: 5 | B7: KM PSP Gdynia | C7: =COUNTA(Gdynia!B3:B36) -> 4
A8: 6 | B8: KP PSP Kartuzy | C8: =COUNTA(Kartuzy!B3:B37) -> 10
A9: 7 | B9: KP PSP Kościerzyna | C9: =COUNTA(Kościerzyna!B3:B38) -> 17
A10: 8 | B10: KP PSP Kwidzyn | C10: =COUNTA(Kwidzyn!B3:B39) -> 6
A11: 9 | B11: KP PSP Lębork | C11: =COUNTA(Lębork!B3:B40) -> 7
A12: 10 | B12: KP PSP Malbork | C12: =COUNTA(Malbork!B3:B41) -> 11
A13: 11 | B13: KP PSP Nowy Dwór Gd. | C13: =COUNTA(NDG!B3:B42) -> 8
A14: 12 | B14: KP PSP Pruszcz Gd. | C14: =COUNTA('Pruszcz Gd.'!B3:B43) -> 18
A15: 13 | B15: KP PSP Puck | C15: =COUNTA(Puck!B3:B44) -> 7
A16: 14 | B16: KM PSP Słupsk | C16: =COUNTA(Słupsk!B3:B45) -> 5
A17: 15 | B17: KM PSP Sopot | C17: =COUNTA(Sopot!B3:B46) -> 2
A18: 16 | B18: KP PSP Starogard Gd. | C18: =COUNTA('Starogard Gd.'!B3:B47) -> 16
A19: 17 | B19: KP PSP Sztum | C19: =COUNTA(Sztum!B3:B48) -> 10
A20: 18 | B20: KP PSP Tczew | C20: =COUNTA(Tczew!B3:B49) -> 12
A21: 19 | B21: KP PSP Wejherowo | C21: =COUNTA(Wejherowo!B3:B49) -> 29
A22: 20 | B22: KW PSP Gdańsk | C22: =COUNTA('KW PSP'!B3:B51) -> 0
C23: =SUM(C3:C22) -> 197

Sheet Bytów
A2: L.p. | B2: Nazwa Komendy/JRG/OSP | C2: Adres miejsca
A3: 1 | B3: JRG Nr 1 w Bytowie | C3: ul. gen. Józefa Wybickiego 9, Bytów
A4: 2 | B4: JRG Nr 2 w Miatku | C4: "Zielony Ruczaj" ul. Zielona, Miastko
A5: 3 | B5: OSP Czarna Dąbrówka | C5: ul. Ogrodowa 2, Czarna Dąbrówka
A6: 4 | B6: OSP Ugoszcz | C6: ul. Bytowska 2, Ugoszcz
A7: 5 | B7: OSP Borzytuchom | C7: ul. Danuty Siedzikówny "Inki" 7, Borzytuchom
A8: 6 | B8: OSP Tuchomie | C8: ul. Jana III Sobieskiego 14, Tuchomie
A9: 7 | B9: OSP Trzebielino | C9: ul. Pomorska 14, Trzebielino
A10: 8 | B10: OSP Kołczygłowy | C10: ul. Szkolna 12, Kołczygłowy
A11: 9 | B11: OSP Parchowo | C11: ul. Strażacka 2, Parchowo
A12: 10 | B12: OSP Lipnica | C12: ul. Strażacka 5, Lipnica
A13: 11 | B13: OSP Dretyń | C13: 77-200 Dretyń 36
A14: 12 | B14: OSP Pomysk Wielki | C14: ul. Głowna 28, Pomysk Wielki
A15: 13 | B15: OSP Borzyszkowy | C15: 77-130 Borzyszkowy 3
A16: 14
A17: 15
A18: 16
A19: 17
A20: 18
A21: 19
A22: 20
A23: 21
A24: 22
A25: 23
A26: 24
A27: 25
... A102: 100

Sheet Chojnice
A2: L.p. | B2: Nazwa Komendy/JRG/OSP | C2: Adres miejsca
A3: 1 | B3: KP PSP w Chojnicach | C3: ulica Gdańska 51 89-604 Chojnice
A4: 2 | B4: Centrum Handlowe BRAMA POMORZA (GALERIA) | C4: Podmiejska 2a,Lipienice, 89-620 Chojnice
A5: 3 | B5: OSP Czersk (przy remiznie) | C5: ulica Starogardzka 42, 89-650 Czersk
A6: 4 | B6: OSP Łąg | C6: ulica Rynkowa w Czersku, 89-650 Czersk
A7: 5 | B7: Konarzyny (przy remizie) | C7: ulica Strażacka 2, 89-607 Konarzyny
A8: 6 | B8: Brusy (przy remizie) | C8: ulica Gdańska 1B, 89-632 Brusy
A9: 7
A10: 8
A11: 9
A12: 10
A13: 11
A14: 12
A15: 13
A16: 14
A17: 15
A18: 16
A19: 17
A20: 18
... A102: 100

Sheet Człuchów
A2: L.p. | B2: Nazwa Komendy/JRG/OSP | C2: Adres miejsca
A3: 1 | B3: KP PSP w Człuchowie | C3: ul. Stefana Batorego 10, 77-300 Człuchów
A4: 2 | B4: OSP Bińcze | C4: Bińcze 39b, 77-324 Czarne
A5: 3 | B5: OSP Czarne | C5: ul. Ogrodowa 20, 77- 330 Czarne
A6: 4 | B6: OSP Polnica | C6: Polnica 31, 77-300 Człuchów
A7: 5 | B7: OSP Rychnowy | C7: Rychnowy 8A, 77-300 Człuchów
A8: 6 | B8: OSP Debrzno | C8: ul.Miła 8, 77-310 Debrzno
A9: 7 | B9: OSP Stare Gronowo | C9: Stare Gronowo 48, 77-310 Debrzno
A10: 8 | B10: OSP Koczała | C10: ul. Szkolna 7, 77-220 Koczała
A11: 9 | B11: OSP Pietrzykowo | C11: Pietrzykowo 34, 77-220 Koczała
A12: 10 | B12: OSP Przechlewo | C12: ul. Staroszkolna 2, 77-320 Przechlewo
A13: 11 | B13: OSP Rzeczenica | C13: ul. Czarna 17a, 77-304 Rzeczenica
A14: 12 | B14: OSP Pieniężnica | C14: Pieniężnica 17, 77-304 Rzeczenica
A15: 13
A16: 14
A17: 15
A18: 16
A19: 17
A20: 18
A21: 19
A22: 20
A23: 21
A24: 22
A25: 23
A26: 24
... A102: 100

Sheet Gdańsk
A2: L.p. | B2: Nazwa Komendy/JRG/OSP | C2: Adres miejsca
A3: 1 | B3: KM PSP Gdańsk JRG 5 | C3: Gdańsk ul. Beniowskiego 7
A4: 2 | B4: KM PSP Gdańsk JRG 1 | C4: Gdańsk ul. Partyzantów 34
A5: 3 | B5: KM PSP Gdańsk JRG 2 | C5: Gdańsk ul. Siennicka 30/40
A6: 4 | B6: KM PSP Gdańsk JRG 3 i JRG 4 | C6: Gdańsk ul. Targ Sienny 7 (CH Forum)
A7: 5
A8: 6
A9: 7
A10: 8
A11: 9
A12: 10
A13: 11
A14: 12
A15: 13
A16: 14
A17: 15
A18: 16
... A103: 100

Sheet Gdynia
A2: L.p. | B2: Nazwa Komendy/JRG/OSP | C2: Adres miejsca
A3: 1 | B3: KM PSP Gdynia JRG 1 | C3: ul. Władysława IV 12/14, Gdynia
A4: 2 | B4: KM PSP Gdynia JRG 2 | C4: ul. Hutnicza 30, Gdynia
A5: 3 | B5: KM PSP Gdynia JRG 3, JRG 4 | C5: ul. Kazimierza Górskiego 2, Gdynia
A6: 4 | B6: OSP Gdynia Wiczlino | C6: Wiczlińska 50a, Gdynia
A7: 5
A8: 6
A9: 7
A10: 8
A11: 9
A12: 10
A13: 11
A14: 12
A15: 13
A16: 14
A17: 15
A18: 16
... A102: 100

Sheet Kartuzy
A2: L.p. | B2: Nazwa Komendy/JRG/OSP | C2: Adres miejsca
A3: 1 | B3: KP PSP Kartuzy | C3: ul. 3 Maja 16a, 83-300 Kartuzy
A4: 2 | B4: OSP Sierakowice | C4: ul. Ks. Sychty 2, 83-340 Sierakowice
A5: 3 | B5: OSP Tokary | C5: ul. Przodkowska 60, 83-304 Tokary,
A6: 4 | B6: OSP Szymbark | C6: ul. Długa 16, 83-315 Szymbark
A7: 5 | B7: OSP Miechucino | C7: ul. Kartuska 15, 83-334 Miechucino
A8: 6 | B8: OSP Dzierżążno | C8: ul. Kartuska 31, 83-332 Dzierżążno
A9: 7 | B9: OSP Chwaszczyno | C9: ul. Żeromskiego 9, 80-209 Chwaszczyno
A10: 8 | B10: OSP Kistowo | C10: Kistowo 24b, 83-320 Sulęczyno
A11: 9 | B11: OSP Ostrzyce | C11: ul. Kasztelańska 25, Ostrzyce, 83-311 Goręczyno
A12: 10 | B12: OSP Chmielno | C12: ul. Garncarska 1, 83-333 Chmielno
A13: 11
A14: 12
A15: 13
A16: 14
A17: 15
A18: 16
A19: 17
A20: 18
A21: 19
A22: 20
A23: 21
A24: 22
... A102: 100

Sheet Kościerzyna
A2: L.p. | B2: Nazwa Komendy/JRG/OSP | C2: Adres miejsca
A3: 1 | B3: KP PSP w Kościerzynie | C3: K-na ul. Traugutta 6
A4: 2 | B4: OSP Kościerzyna | C4: K-na ul. Traugutta 6 | D4: x
A5: 3 | B5: OSP Łubiana | C5: Zakładowa 1, 83-407 Łubiana | D5: x
A6: 4 | B6: OSP Wielki Klincz | C6: Józefa Wybickiego 19, 83-423 Wielki Klincz | D6: x
A7: 5 | B7: OSP Dziemiany | C7: Kowalska 11, 83-425 Dziemiany | D7: x
A8: 6 | B8: OSP Raduń | C8: Raduń-Osiedle 39, 83-425 Raduń | D8: x
A9: 7 | B9: OSP Lipusz | C9: Młyńska 18 83-424 Lipusz | D9: x
A10: 8 | B10: OSP Liniewo | C10: Starowiejska 13, 83-420 Liniewo | D10: x
A11: 9 | B11: OSP Wysin | C11: Wyzwolenia 1, 83-421 Wysin | D11: x
A12: 10 | B12: OSP Nowa Karczma | C12: Gdańska 2, 83-404 Nowa Karczma | D12: x
A13: 11 | B13: OSP Lubań | C13: Braci Czarlińskich 42, 83-422 Lubań | D13: x
A14: 12 | B14: OSP Stara Kiszewa | C14: Ogrodowa 1A, 83-430 Stara Kiszewa | D14: x
A15: 13 | B15: OSP Bartoszylas | C15: Bartoszylas 27A, 83-430 Bartoszylas | D15: x
... A17: 15 | B17: OSP Wiele | C17: Rogali 7A, 83-441 Wiele | D17: x
A18: 16 | B18: OSP Głodowo | C18: Głodowo 40A, 83-412 Głodowo
A19: 17 | B19: OSP Lubieszyn | C19: Lubieszyn 27A, 83-420 Lubieszyn | D19: x
A20: 18
A21: 19
A22: 20
A23: 21
A24: 22
A25: 23
A26: 24
A27: 25
A28: 26
A29: 27
A30: 28
A31: 29
... A102: 100

Sheet Kwidzyn
A2: L.p. | B2: Nazwa Komendy/JRG/OSP | C2: Adres miejsca
A3: 1 | B3: KP PSP Kwidzyn | C3: ul. Sportowa 3, Kwidzyn
A4: 2 | B4: OSP Pastwa | C4: Brachlewo 42
A5: 3 | B5: OSP Kwidzyn | C5: ul. Miłosna 18, Kwidzyn
A6: 4 | B6: OSP Gardeja i OSP Rozajny | C6: ul. Sportowa 7, Gardeja
A7: 5 | B7: OSP Ryjewo | C7: ul Grunwaldzka 70, Ryjewo
A8: 6 | B8: OSP Olszanica | C8: Olszanica gm. Sadlinki
A9: 7
A10: 8
A11: 9
A12: 10
A13: 11
A14: 12
A15: 13
A16: 14
A17: 15
A18: 16
A19: 17
A20: 18
... A102: 100

Sheet Lębork
A2: L.p. | B2: Nazwa Komendy/JRG/OSP | C2: Adres miejsca
A3: 1 | B3: KP PSP Lębork | C3: ul. Stryjewskiego 37; 84-300 Lębork
A4: 2 | B4: OSP Łeba | C4: ul. Pocztowa 10; 84-360 Łeba
A5: 3 | B5: OSP Wicko | C5: ul. Morska 8; 84-352 Wicko
A6: 4 | B6: OSP Nowa Wieś Lęborska | C6: ul. Grunwaldzka 26/1; 84-351 Nowa Wieś Lęborska
A7: 5 | B7: OSP Łebień | C7: 84-350 Łebień 74
A8: 6 | B8: OSP Cewice | C8: ul. Węgrzynowicza 15; 84-312 Cewice
A9: 7 | B9: OSP Lębork | C9: ul. Wojska Polskiego 37; 84-300 Lębork
A10: 8
A11: 9
A12: 10
A13: 11
A14: 12
A15: 13
A16: 14
A17: 15
A18: 16
A19: 17
A20: 18
A21: 19
... A102: 100

Sheet Malbork
A2: L.p. | B2: Nazwa Komendy/JRG/OSP | C2: Adres miejsca
A3: 1 | B3: KP PSP Malbork | C3: Skrzyżowanie mostu Św. Wojciecha i ul. Bulwar im. Maciej Kilarskiego w Malborku
A4: 2 | B4: OSP Stogi | C4: Przy remizie OSP Stogi 15, 82-200 Stogi
A5: 3 | B5: OSP Lasowice Wielkie | C5: Przy remizie OSP Lasowice Wielkie 46, 82-200 Lasowice Wielkie
A6: 4 | B6: OSP Miłoradz | C6: Przy remizie OSP Miłoradz, ul. Główna 54, 82-213 Miłoradz
A7: 5 | B7: OSP Kończewice | C7: Przy remizie OSP Kończewice 40, 82-213 Kończewice
A8: 6 | B8: OSP Lichnowy | C8: Przy Urzędzie Gminy Lichnowy, ul. Tczewska 6, 82-224 Lichnowy
A9: 7 | B9: OSP Lisewo Malborskie | C9: Przy remizie OSP Lisewo Malb., ul. Braterska 2, 82-224 Lisewo Malborskie
A10: 8 | B10: OSP Nowy Staw | C10: Rynek - Pl. Kościuszki, 82-230 Nowy Staw
A11: 9 | B11: OSP Lipinka | C11: Przy remizie OSP Lipinka 16, 82-230 Lipinka
A12: 10 | B12: OSP Stare Pole | C12: Przy remizie OSP Stare Pole, ul. Marynarki Wojennej 6, 82-220 Stare Pole
A13: 11 | B13: OSP Ząbrowo | C13: Przy remizie OSP Ząbrowo 17, 82-220 Ząbrowo
A14: 12
A15: 13
A16: 14
A17: 15
A18: 16
A19: 17
A20: 18
A21: 19
A22: 20
A23: 21
A24: 22
A25: 23
... A102: 100

Sheet NDG
A2: L.p. | B2: Nazwa Komendy/JRG/OSP | C2: Adres miejsca
A3: 1 | B3: KP PSP w Nowym Dworze Gdańskim | C3: Przy Urzędzie Miejskim ul. Ernesta Wejhera 3, 82-100 Nowy Dwór Gdański
A4: 2 | B4: OSP Nowy Dwór Gdański | C4: Przy remizie OSP ul. Warszawska 56, 82-100 Nowy Dwór Gdański
A5: 3 | B5: OSP Marzęcino | C5: Przy remizie OSP ul. Główna 10 A, 82-100 Marzęcino
A6: 4 | B6: OSP Ostaszewo | C6: Przy remizie OSP ul. Kościuszki 16, 82-112 Ostaszewo
A7: 5 | B7: OSP Stegna | C7: Parking przy plaży ul Morska 21, 82-103 Stegna
A8: 6 | B8: OSP Jantar | C8: Przy remizie OSP ul. Gdańska 27 A, 82-103 Jantar
A9: 7 | B9: OSP Sztutowo | C9: Przy remizie OSP ul. Gdańska 55 A, 82-110 Sztutowo
A10: 8 | B10: OSP Krynica Morska | C10: Przy punkcie Informacji turystycznej ul. Gdańska 144, 82-120 Krynica Morska
A11: 9
A12: 10
A13: 11
A14: 12
A15: 13
A16: 14
A17: 15
A18: 16
A19: 17
A20: 18
A21: 19
A22: 20
... A102: 100

Sheet Pruszcz Gd.
A2: L.p. | B2: Nazwa Komendy/JRG/OSP | C2: Adres miejsca
A3: 1 | B3: KP PSP Pruszcz Gdański | C3: Pruszcz Gdański ul. Gdańska 6
A4: 2 | B4: OSP Pruszcz Gdański | C4: Pruszcz Gdański ul. Chopina 32
A5: 3 | B5: OSP Pszczółki | C5: Pszczółki ul. Lipowa 4
A6: 4 | B6: OSP Suchy Dąb | C6: Suchy Dąb ul. Gdańska 34
A7: 5 | B7: OSP Cedry Wielkie | C7: Cedry Wielkie ul. Osadników Wojskowych 8
A8: 6 | B8: OSP Koszwały | C8: Koszwały ul. Lipowa 11A
A9: 7 | B9: OSP Lublewo Gdańskie | C9: Lublewo Gdańskie ul. Strażacka 2
A10: 8 | B10: OSP Pręgowo | C10: Pręgowo ul. Strażacka 2
A11: 9 | B11: OSP Przywidz | C11: Przywidz Gdańska 17
A12: 10 | B12: OSP Jodłowno | C12: Jodłowno ul. Kasztanowa 21
A13: 11 | B13: OSP Wiślina | C13: Wiślina ul. Słoneczna 4
A14: 12 | B14: OSP Łęgowo | C14: Łęgowo ul. Spacerowa 8
... A20: 18 | B20: OSP Przejazdowo | C20: Przejazdowo ul. Klonowa 13
A21: 19
A22: 20
A23: 21
A24: 22
A25: 23
A26: 24
A27: 25
A28: 26
A29: 27
A30: 28
A31: 29
A32: 30
... A105: 100

Sheet Puck
A2: L.p. | B2: Nazwa Komendy/JRG/OSP | C2: Adres miejsca
A3: 1 | B3: JRG Puck | C3: ul. Stary Rynek, 84-100 Puck
A4: 2 | B4: OSP Jastarnia | C4: ul. Herrmana 1, 84-140 Jastarnia
A5: 3 | B5: OSP Jastrzębia Góra | C5: ul. Bałtycka 5, 84-104 Jastrzębia Góra
A6: 4 | B6: OSP Karwia | C6: ul. Mikołaja Kopernika 34, 84-105 Karwia
A7: 5 | B7: OSP Kosakowo | C7: ul. Chrzanowskiego 44, 81-198 Kosakowo
A8: 6 | B8: OSP Smolno | C8: ul. Pucka 46, Smolno
A9: 7 | B9: OSP Leśniewo | C9: ul. Starowiejska 16, 84-106 Leśniewo
A10: 8
A11: 9
A12: 10
A13: 11
A14: 12
A15: 13
A16: 14
A17: 15
A18: 16
A19: 17
A20: 18
A21: 19
... A102: 100

Sheet Słupsk
A2: L.p. | B2: Nazwa Komendy/JRG/OSP | C2: Adres miejsca
A3: 1 | B3: JRG 1 Słupsk | C3: ul. Rynek Rybacki 2, Słupsk
A4: 2 | B4: JRG 2 Słupsk | C4: ul. Towarowa 9C, Słupsk
A5: 3 | B5: JRG 3 Ustka | C5: ul. Darłowska 2a, Ustka
A6: 4 | B6: OSP Dębnica Kaszubska | C6: ul. Leśna 3, Dębnica Kaszubska
A7: 5 | B7: OSP Jezierzyce, OSP Bukówka, OSP Krępa Słupska | C7: Hala Sportowo-Widowiskowa w Jezierzycach
A8: 6
A9: 7
A10: 8
A11: 9
A12: 10
A13: 11
A14: 12
A15: 13
A16: 14
A17: 15
A18: 16
A19: 17
... A102: 100

Sheet Sopot
A2: L.p. | B2: Nazwa Komendy/JRG/OSP | C2: Adres miejsca
A3: 1 | B3: KM PSP Sopot | C3: Sopot ul. Armii Krajowej 105
A4: 2 | B4: OSP Sopot | C4: Sopot ul. Armii Krajowej 105
A5: 3
A6: 4
A7: 5
A8: 6
A9: 7
A10: 8
A11: 9
A12: 10
A13: 11
A14: 12
A15: 13
A16: 14
... A102: 100

Sheet Starogard Gd.
A2: L.p. | B2: Nazwa Komendy/JRG/OSP | C2: Adres miejsca
A3: 1 | B3: KP PSP Starogard Gdański | C3: Lubichowska 1 Starogard Gd.
A4: 2 | B4: OSP Zblewo | C4: ul. Główna 4 Zblewo
A5: 3 | B5: OSP Sucumin | C5: Sucumin 29
A6: 4 | B6: OSP Smętowo Gr. | C6: ul. Okrężna 1 Smętowo Gr.
A7: 5 | B7: OSP Skórcz | C7: ul. Hallera 16 Skórcz
A8: 6 | B8: OSP Skarszewy | C8: ul. Kościerska 2 Skarszewy
A9: 7 | B9: OSP Osiek | C9: ul. Strażacka 1 Osiek
A10: 8 | B10: OSP Osieczna | C10: ul. Czaplińskiego 2 Osieczna
A11: 9 | B11: OSP Lubichowo | C11: ul. Dworcowa 24 Lubichowo
A12: 10 | B12: OSP Kaliska | C12: ul. Nowowiejska 2b Kaliska
A13: 11 | B13: OSP Bobowo | C13: ul. Gdańska 13 Bobowo
A14: 12 | B14: OSP Czarna Woda | C14: ul. Mickiewicza 13 Czarna Woda
... A18: 16 | B18: OSP Wolental | C18: Wolental 15
A19: 17
A20: 18
A21: 19
A22: 20
A23: 21
A24: 22
A25: 23
A26: 24
A27: 25
A28: 26
A29: 27
A30: 28
... A102: 100

Sheet Sztum
A2: L.p. | B2: Nazwa Komendy/JRG/OSP | C2: Adres miejsca
A3: 1 | B3: KP PSP Sztum | C3: ul. Sienkiewicza 27 82-400 Sztum
A4: 2 | B4: OSP Gościszewo | C4: Gościszewo 71A 82-400 Sztum
A5: 3 | B5: OSP Postolin | C5: Postolin11 82-400 Sztum
A6: 4 | B6: OSP Żuławka Sztumska | C6: Żuławka Sztumska 30 82-440 Dzierzgoń
A7: 5 | B7: OSP Dierzgoń | C7: ul. Krzywa 12 82-440 Dzierzgoń
A8: 6 | B8: OSP Stary Dzierzgoń | C8: Stary Dzierzgoń 10A 82-450 Stary Dzierzgoń
A9: 7 | B9: OSP Myślice | C9: Myślice 29 82-450 Stary Dzierzgoń
A10: 8 | B10: OSP Stary Targ | C10: ul. Nowotarska 11 82-410 Stary Targ
A11: 9 | B11: OSP Mikołajki Pomorskie | C11: Szreibera 14 82-433 Mikołajki Pomorskie
A12: 10 | B12: OSP Szropy | C12: Szropy 55 82-410 Stary Targ
A13: 11
A14: 12
A15: 13
A16: 14
A17: 15
A18: 16
A19: 17
A20: 18
A21: 19
A22: 20
A23: 21
A24: 22
... A102: 100

Sheet Tczew
A2: L.p. | B2: Nazwa Komendy/JRG/OSP | C2: Adres miejsca
A3: 1 | B3: OSP Tczew | C3: Bulwar Nadwiślański, 83-110 Tczew
A4: 2 | B4: OSP Subkowy | C4: Wybickiego 19a, 83-120 Subkowy
A5: 3 | B5: OSP Pelplin | C5: Plac Grunwaldzki 4, 83-130 Pelpllin
A6: 4 | B6: OSP Gniew | C6: Plac Grunwaldzki 1, 83-140 Gniew
A7: 5 | B7: OSP Morzeszczyn | C7: Kociewska 2, 83-132 Morzeszczyn
A8: 6 | B8: OSP Nowa Cerkiew | C8: Nowa Cerkiew 25a, 83132 Nowa Cerkiew
A9: 7 | B9: OSP Kolonia Ostrowicka | C9: Kolonia Ostrowicka 53, 83-140 Kolonia Ostrowicka
A10: 8 | B10: OSP Swarożyn | C10: Piastowska 25, 83-115 Swarożyn
A11: 9 | B11: OSP Wielki Garc | C11: Wielki Garc 39, 83-121 Wielki Garc
A12: 10 | B12: OSP Gogolewo | C12: Gogolewo 27, 83-140 Gogolewo
A13: 11 | B13: OSP Małżewo | C13: Małżewo 3, 83-113 Małżewo
A14: 12 | B14: KP PSP Tczew | C14: Lecha 11, 83-110 Tczew
A15: 13
A16: 14
A17: 15
A18: 16
A19: 17
A20: 18
A21: 19
A22: 20
A23: 21
A24: 22
A25: 23
A26: 24
... A102: 100

Sheet Wejherowo
A2: L.p. | B2: Nazwa Komendy/JRG/OSP | C2: Adres miejsca
A3: 1 | B3: JRG 1 Wejherowo | C3: Tartaczna 5, Wejherowo
A4: 2 | B4: JRG 2 Rumia | C4: Św Floriana 1, Rumia
A5: 3 | B5: OSP Łęczyce | C5: Sportowa 5, Łęczyce
A6: 4 | B6: OSP Luzino | C6: Ofiar Stutthofu 39, Luzino
A7: 5 | B7: OSP Milwino | C7: Strażacka 5, Milwino
A8: 6 | B8: OSP Kostkowo | C8: Wejherowska 24a, Kostkowo
A9: 7 | B9: OSP Gościcino | C9: Drzewiarza 22, Gościcino
A10: 8 | B10: OSP Wejherowo | C10: 3 maja 2, Wejherowo
A11: 9 | B11: OSP Nadole | C11: Strażacka 20, Nadole
A12: 10 | B12: OSP Gniewino | C12: Strażacka 2, Gniewino
A13: 11 | B13: OSP Szemud | C13: Samorządowa 3, Szemud
A14: 12 | B14: OSP Kielno | C14: Oliwska 85, Kielno
... A31: 29 | B31: OSP Reda | C31: Pucka 1, Reda
A32: 30
A33: 31
A34: 32
A35: 33
A36: 34
A37: 35
A38: 36
A39: 37
A40: 38
A41: 39
A42: 40
A43: 41
... A101: 100

Sheet KW PSP
A2: L.p. | B2: Nazwa Komendy/JRG/OSP | C2: Adres miejsca
A3: 1
A4: 2
A5: 3
A6: 4
A7: 5
A8: 6
A9: 7
A10: 8
A11: 9
A12: 10
A13: 11
A14: 12
... A102: 100
